BEGIN:VCALENDAR
VERSION:2.0
PRODID:-//Elternverein der Volksschule Schwarzstraße - ECPv6.15.20//NONSGML v1.0//EN
CALSCALE:GREGORIAN
METHOD:PUBLISH
X-WR-CALNAME:Elternverein der Volksschule Schwarzstraße
X-ORIGINAL-URL:https://www.derelternverein.at
X-WR-CALDESC:Veranstaltungen für Elternverein der Volksschule Schwarzstraße
REFRESH-INTERVAL;VALUE=DURATION:PT1H
X-Robots-Tag:noindex
X-PUBLISHED-TTL:PT1H
BEGIN:VTIMEZONE
TZID:Europe/Berlin
BEGIN:DAYLIGHT
TZOFFSETFROM:+0100
TZOFFSETTO:+0200
TZNAME:CEST
DTSTART:20240331T010000
END:DAYLIGHT
BEGIN:STANDARD
TZOFFSETFROM:+0200
TZOFFSETTO:+0100
TZNAME:CET
DTSTART:20241027T010000
END:STANDARD
BEGIN:DAYLIGHT
TZOFFSETFROM:+0100
TZOFFSETTO:+0200
TZNAME:CEST
DTSTART:20250330T010000
END:DAYLIGHT
BEGIN:STANDARD
TZOFFSETFROM:+0200
TZOFFSETTO:+0100
TZNAME:CET
DTSTART:20251026T010000
END:STANDARD
BEGIN:DAYLIGHT
TZOFFSETFROM:+0100
TZOFFSETTO:+0200
TZNAME:CEST
DTSTART:20260329T010000
END:DAYLIGHT
BEGIN:STANDARD
TZOFFSETFROM:+0200
TZOFFSETTO:+0100
TZNAME:CET
DTSTART:20261025T010000
END:STANDARD
END:VTIMEZONE
BEGIN:VEVENT
DTSTART;VALUE=DATE:20250604
DTEND;VALUE=DATE:20250605
DTSTAMP:20260421T105728
CREATED:20241204T154614Z
LAST-MODIFIED:20241204T154614Z
UID:2258-1748995200-1749081599@www.derelternverein.at
SUMMARY:Tag der offenen Tür
DESCRIPTION:
URL:https://www.derelternverein.at/termin/tag-der-offenen-tuer-4/
ATTACH;FMTTYPE=image/jpeg:https://www.derelternverein.at/wp-content/uploads/2018/05/2018_04_Mittagsbetreuung_25.jpg
END:VEVENT
BEGIN:VEVENT
DTSTART;VALUE=DATE:20250609
DTEND;VALUE=DATE:20250610
DTSTAMP:20260421T105728
CREATED:20241204T154731Z
LAST-MODIFIED:20241204T154731Z
UID:2260-1749427200-1749513599@www.derelternverein.at
SUMMARY:Pfingstmontag
DESCRIPTION:
URL:https://www.derelternverein.at/termin/pfingstmontag/
ATTACH;FMTTYPE=image/jpeg:https://www.derelternverein.at/wp-content/uploads/2018/08/2018_08_frei-schulautonom_4.jpg
END:VEVENT
BEGIN:VEVENT
DTSTART;VALUE=DATE:20250614
DTEND;VALUE=DATE:20250615
DTSTAMP:20260421T105728
CREATED:20241204T154903Z
LAST-MODIFIED:20241204T154903Z
UID:2262-1749859200-1749945599@www.derelternverein.at
SUMMARY:Erstkommunion Pfarre Gneis
DESCRIPTION:
URL:https://www.derelternverein.at/termin/erstkommunion-pfarre-gneis/
END:VEVENT
BEGIN:VEVENT
DTSTART;VALUE=DATE:20250619
DTEND;VALUE=DATE:20250620
DTSTAMP:20260421T105728
CREATED:20241204T155004Z
LAST-MODIFIED:20241204T155004Z
UID:2264-1750291200-1750377599@www.derelternverein.at
SUMMARY:Fronleichnam
DESCRIPTION:
URL:https://www.derelternverein.at/termin/fronleichnam/
ATTACH;FMTTYPE=image/jpeg:https://www.derelternverein.at/wp-content/uploads/2018/08/2018_08_frei-schulautonom_4.jpg
END:VEVENT
BEGIN:VEVENT
DTSTART;VALUE=DATE:20250620
DTEND;VALUE=DATE:20250621
DTSTAMP:20260421T105728
CREATED:20241204T155057Z
LAST-MODIFIED:20241204T155057Z
UID:2266-1750377600-1750463999@www.derelternverein.at
SUMMARY:Schulautonom frei
DESCRIPTION:
URL:https://www.derelternverein.at/termin/schulautonom-frei-5/
ATTACH;FMTTYPE=image/jpeg:https://www.derelternverein.at/wp-content/uploads/2018/08/2018_08_frei-schulautonom_4.jpg
END:VEVENT
BEGIN:VEVENT
DTSTART;TZID=Europe/Berlin:20250625T190000
DTEND;TZID=Europe/Berlin:20250625T190000
DTSTAMP:20260421T105728
CREATED:20241204T155206Z
LAST-MODIFIED:20241204T155218Z
UID:2268-1750878000-1750878000@www.derelternverein.at
SUMMARY:2. Schulforum für alle Elternvertreter und Lehrpersonen
DESCRIPTION:
URL:https://www.derelternverein.at/termin/2-schulforum-fuer-alle-elternvertreter-und-lehrpersonen/
END:VEVENT
BEGIN:VEVENT
DTSTART;VALUE=DATE:20250627
DTEND;VALUE=DATE:20250628
DTSTAMP:20260421T105728
CREATED:20241204T155446Z
LAST-MODIFIED:20241204T155446Z
UID:2270-1750982400-1751068799@www.derelternverein.at
SUMMARY:Sommerfest der Schule
DESCRIPTION:
URL:https://www.derelternverein.at/termin/sommerfest-der-schule/
END:VEVENT
END:VCALENDAR