BEGIN:VCALENDAR
VERSION:2.0
PRODID:-//Elternverein der Volksschule Schwarzstraße - ECPv6.15.20//NONSGML v1.0//EN
CALSCALE:GREGORIAN
METHOD:PUBLISH
X-WR-CALNAME:Elternverein der Volksschule Schwarzstraße
X-ORIGINAL-URL:https://www.derelternverein.at
X-WR-CALDESC:Veranstaltungen für Elternverein der Volksschule Schwarzstraße
REFRESH-INTERVAL;VALUE=DURATION:PT1H
X-Robots-Tag:noindex
X-PUBLISHED-TTL:PT1H
BEGIN:VTIMEZONE
TZID:Europe/Berlin
BEGIN:DAYLIGHT
TZOFFSETFROM:+0100
TZOFFSETTO:+0200
TZNAME:CEST
DTSTART:20240331T010000
END:DAYLIGHT
BEGIN:STANDARD
TZOFFSETFROM:+0200
TZOFFSETTO:+0100
TZNAME:CET
DTSTART:20241027T010000
END:STANDARD
BEGIN:DAYLIGHT
TZOFFSETFROM:+0100
TZOFFSETTO:+0200
TZNAME:CEST
DTSTART:20250330T010000
END:DAYLIGHT
BEGIN:STANDARD
TZOFFSETFROM:+0200
TZOFFSETTO:+0100
TZNAME:CET
DTSTART:20251026T010000
END:STANDARD
BEGIN:DAYLIGHT
TZOFFSETFROM:+0100
TZOFFSETTO:+0200
TZNAME:CEST
DTSTART:20260329T010000
END:DAYLIGHT
BEGIN:STANDARD
TZOFFSETFROM:+0200
TZOFFSETTO:+0100
TZNAME:CET
DTSTART:20261025T010000
END:STANDARD
END:VTIMEZONE
BEGIN:VEVENT
DTSTART;TZID=Europe/Berlin:20251215T080000
DTEND;TZID=Europe/Berlin:20251215T090000
DTSTAMP:20260422T135041
CREATED:20251110T102734Z
LAST-MODIFIED:20251110T102734Z
UID:2498-1765785600-1765789200@www.derelternverein.at
SUMMARY:3. Adventfeier im Turnsaal
DESCRIPTION:
URL:https://www.derelternverein.at/termin/3-adventfeier-im-turnsaal/
END:VEVENT
BEGIN:VEVENT
DTSTART;TZID=Europe/Berlin:20251215T150000
DTEND;TZID=Europe/Berlin:20251215T210000
DTSTAMP:20260422T135041
CREATED:20251110T102809Z
LAST-MODIFIED:20251110T102809Z
UID:2500-1765810800-1765832400@www.derelternverein.at
SUMMARY:Adventstand des Elternvereins am Alten Markt
DESCRIPTION:
URL:https://www.derelternverein.at/termin/adventstand-des-elternvereins-am-alten-markt/
END:VEVENT
BEGIN:VEVENT
DTSTART;TZID=Europe/Berlin:20251215T160000
DTEND;TZID=Europe/Berlin:20251215T170000
DTSTAMP:20260422T135041
CREATED:20251110T102840Z
LAST-MODIFIED:20251110T102840Z
UID:2502-1765814400-1765818000@www.derelternverein.at
SUMMARY:Hirtenspiel Schulchor · Pfarrkirche St.Peter
DESCRIPTION:
URL:https://www.derelternverein.at/termin/hirtenspiel-schulchor-%c2%b7-pfarrkirche-st-peter/
END:VEVENT
END:VCALENDAR