BEGIN:VCALENDAR
VERSION:2.0
PRODID:-//Elternverein der Volksschule Schwarzstraße - ECPv6.15.20//NONSGML v1.0//EN
CALSCALE:GREGORIAN
METHOD:PUBLISH
X-ORIGINAL-URL:https://www.derelternverein.at
X-WR-CALDESC:Veranstaltungen für Elternverein der Volksschule Schwarzstraße
REFRESH-INTERVAL;VALUE=DURATION:PT1H
X-Robots-Tag:noindex
X-PUBLISHED-TTL:PT1H
BEGIN:VTIMEZONE
TZID:Europe/Berlin
BEGIN:DAYLIGHT
TZOFFSETFROM:+0100
TZOFFSETTO:+0200
TZNAME:CEST
DTSTART:20240331T010000
END:DAYLIGHT
BEGIN:STANDARD
TZOFFSETFROM:+0200
TZOFFSETTO:+0100
TZNAME:CET
DTSTART:20241027T010000
END:STANDARD
BEGIN:DAYLIGHT
TZOFFSETFROM:+0100
TZOFFSETTO:+0200
TZNAME:CEST
DTSTART:20250330T010000
END:DAYLIGHT
BEGIN:STANDARD
TZOFFSETFROM:+0200
TZOFFSETTO:+0100
TZNAME:CET
DTSTART:20251026T010000
END:STANDARD
BEGIN:DAYLIGHT
TZOFFSETFROM:+0100
TZOFFSETTO:+0200
TZNAME:CEST
DTSTART:20260329T010000
END:DAYLIGHT
BEGIN:STANDARD
TZOFFSETFROM:+0200
TZOFFSETTO:+0100
TZNAME:CET
DTSTART:20261025T010000
END:STANDARD
END:VTIMEZONE
BEGIN:VEVENT
DTSTART;TZID=Europe/Berlin:20251205T080000
DTEND;TZID=Europe/Berlin:20251205T090000
DTSTAMP:20260422T020708
CREATED:20251110T102117Z
LAST-MODIFIED:20251110T102117Z
UID:2483-1764921600-1764925200@www.derelternverein.at
SUMMARY:Nikolausfeier im Turnsaal
DESCRIPTION:
URL:https://www.derelternverein.at/termin/nikolausfeier-im-turnsaal/
END:VEVENT
BEGIN:VEVENT
DTSTART;TZID=Europe/Berlin:20251205T100000
DTEND;TZID=Europe/Berlin:20251205T120000
DTSTAMP:20260422T020708
CREATED:20251110T102242Z
LAST-MODIFIED:20251110T102242Z
UID:2487-1764928800-1764936000@www.derelternverein.at
SUMMARY:Haltungscheck 4a\, 4b\, 4c und 3b
DESCRIPTION:
URL:https://www.derelternverein.at/termin/haltungscheck-4a-4b-4c-und-3b/
END:VEVENT
BEGIN:VEVENT
DTSTART;TZID=Europe/Berlin:20251205T100000
DTEND;TZID=Europe/Berlin:20251205T124500
DTSTAMP:20260422T020708
CREATED:20251110T102203Z
LAST-MODIFIED:20251110T102203Z
UID:2485-1764928800-1764938700@www.derelternverein.at
SUMMARY:Avolino 2a+2b
DESCRIPTION:
URL:https://www.derelternverein.at/termin/avolino-2a2b/
END:VEVENT
BEGIN:VEVENT
DTSTART;TZID=Europe/Berlin:20251205T140000
DTEND;TZID=Europe/Berlin:20251205T143000
DTSTAMP:20260422T020708
CREATED:20251110T102331Z
LAST-MODIFIED:20251110T102331Z
UID:2489-1764943200-1764945000@www.derelternverein.at
SUMMARY:Der Schulchor singt am Christkindlmarkt vor dem Dom
DESCRIPTION:
URL:https://www.derelternverein.at/termin/der-schulchor-singt-am-christkindlmarkt-vor-dem-dom/
END:VEVENT
END:VCALENDAR