BEGIN:VCALENDAR
VERSION:2.0
PRODID:-//Elternverein der Volksschule Schwarzstraße - ECPv6.15.20//NONSGML v1.0//EN
CALSCALE:GREGORIAN
METHOD:PUBLISH
X-WR-CALNAME:Elternverein der Volksschule Schwarzstraße
X-ORIGINAL-URL:https://www.derelternverein.at
X-WR-CALDESC:Veranstaltungen für Elternverein der Volksschule Schwarzstraße
REFRESH-INTERVAL;VALUE=DURATION:PT1H
X-Robots-Tag:noindex
X-PUBLISHED-TTL:PT1H
BEGIN:VTIMEZONE
TZID:Europe/Berlin
BEGIN:DAYLIGHT
TZOFFSETFROM:+0100
TZOFFSETTO:+0200
TZNAME:CEST
DTSTART:20240331T010000
END:DAYLIGHT
BEGIN:STANDARD
TZOFFSETFROM:+0200
TZOFFSETTO:+0100
TZNAME:CET
DTSTART:20241027T010000
END:STANDARD
BEGIN:DAYLIGHT
TZOFFSETFROM:+0100
TZOFFSETTO:+0200
TZNAME:CEST
DTSTART:20250330T010000
END:DAYLIGHT
BEGIN:STANDARD
TZOFFSETFROM:+0200
TZOFFSETTO:+0100
TZNAME:CET
DTSTART:20251026T010000
END:STANDARD
BEGIN:DAYLIGHT
TZOFFSETFROM:+0100
TZOFFSETTO:+0200
TZNAME:CEST
DTSTART:20260329T010000
END:DAYLIGHT
BEGIN:STANDARD
TZOFFSETFROM:+0200
TZOFFSETTO:+0100
TZNAME:CET
DTSTART:20261025T010000
END:STANDARD
END:VTIMEZONE
BEGIN:VEVENT
DTSTART;TZID=Europe/Berlin:20251124T093000
DTEND;TZID=Europe/Berlin:20251124T103000
DTSTAMP:20260421T153332
CREATED:20251110T095922Z
LAST-MODIFIED:20251110T100042Z
UID:2455-1763976600-1763980200@www.derelternverein.at
SUMMARY:Buchtage Lesung 3a+3b
DESCRIPTION:
URL:https://www.derelternverein.at/termin/buchtage-lesung-3a3b/
LOCATION:· WIFI Salzburg\, Julius-Raab-Platz 2\, 5027 Salzburg\, Österreich\, Austria
END:VEVENT
BEGIN:VEVENT
DTSTART;TZID=Europe/Berlin:20251124T103000
DTEND;TZID=Europe/Berlin:20251124T113000
DTSTAMP:20260421T153332
CREATED:20251110T100132Z
LAST-MODIFIED:20251110T100132Z
UID:2459-1763980200-1763983800@www.derelternverein.at
SUMMARY:Buchtage Lesung 4a+4b+4c
DESCRIPTION:
URL:https://www.derelternverein.at/termin/buchtage-lesung-4a4b4c/
LOCATION:· WIFI Salzburg\, Julius-Raab-Platz 2\, 5027 Salzburg\, Österreich\, Austria
END:VEVENT
END:VCALENDAR